View In:
ArcGIS JavaScript
ArcGIS Online Map Viewer
ArcGIS Earth
Service Description: Ecoregioni/ECOREGIONI_ABR_MOL
Name: Ecoregioni/ECOREGIONI_ABR_MOL
Description:
Single Fused Map Cache: false
Extent:
XMin: 13.016510891634827
YMin: 41.36180110742961
XMax: 15.162361675676031
YMax: 42.89491487849223
Spatial Reference: 4326
(4326)
Initial Extent:
XMin: 13.016510891634827
YMin: 41.36180110742961
XMax: 15.162361675676031
YMax: 42.89491487849223
Spatial Reference: 4326
(4326)
Full Extent:
XMin: 13.016510891634827
YMin: 41.36180110742961
XMax: 15.162361675676031
YMax: 42.89491487849223
Spatial Reference: 4326
(4326)
Pixel Size X: 0.002542477232276309
Pixel Size Y: 0.002542477232276313
Band Count: 1
Pixel Type: S32
RasterFunction Infos: {"rasterFunctionInfos": [
{
"name": "ecoregioni",
"description": "A raster function template.",
"help": ""
},
{
"name": "MODIS_LST",
"description": "A raster function template.",
"help": ""
},
{
"name": "MODIS_VI",
"description": "A raster function template.",
"help": ""
},
{
"name": "ecoregioni",
"description": "A raster function template.",
"help": ""
},
{
"name": "None",
"description": "Make a Raster or Raster Dataset into a Function Raster Dataset.",
"help": ""
}
]}
Mensuration Capabilities: Basic
Inspection Capabilities:
Has Histograms: true
Has Colormap: false
Has Multi Dimensions : false
Rendering Rule:
Min Scale: 0
Max Scale: 0
Copyright Text:
Service Data Type: esriImageServiceDataTypeGeneric
Min Values: 1
Max Values: 22
Mean Values: 13.420636372312
Standard Deviation Values: 5.5646693400925
Object ID Field:
Fields:
None
Default Mosaic Method: Center
Allowed Mosaic Methods:
SortField:
SortValue: null
Mosaic Operator: First
Default Compression Quality: 75
Default Resampling Method: Bilinear
Max Record Count: null
Max Image Height: 4100
Max Image Width: 15000
Max Download Image Count: null
Max Mosaic Image Count: null
Allow Raster Function: true
Allow Copy: true
Allow Analysis: true
Allow Compute TiePoints: false
Supports Statistics: false
Supports Advanced Queries: false
Use StandardizedQueries: true
Raster Type Infos:
Name: Raster Dataset
Description: Supports all ArcGIS Raster Datasets
Help:
Has Raster Attribute Table: false
Edit Fields Info: null
Ownership Based AccessControl For Rasters: null
Child Resources:
Info
Histograms
Statistics
Key Properties
Legend
Raster Function Infos
Supported Operations:
Export Image
Identify
Measure
Compute Histograms
Compute Statistics Histograms
Get Samples
Compute Class Statistics
Query Boundary
Compute Pixel Location
Compute Angles
Validate
Project