{
 "currentVersion": 11.3,
 "serviceDescription": "Ecoregioni/ECOREGIONI_ABR_MOL",
 "name": "Ecoregioni/ECOREGIONI_ABR_MOL",
 "description": "",
 "extent": {
  "xmin": 13.016510891634827,
  "ymin": 41.36180110742961,
  "xmax": 15.162361675676031,
  "ymax": 42.89491487849223,
  "spatialReference": {
   "wkid": 4326,
   "latestWkid": 4326
  }
 },
 "initialExtent": {
  "xmin": 13.016510891634827,
  "ymin": 41.36180110742961,
  "xmax": 15.162361675676031,
  "ymax": 42.89491487849223,
  "spatialReference": {
   "wkid": 4326,
   "latestWkid": 4326
  }
 },
 "fullExtent": {
  "xmin": 13.016510891634827,
  "ymin": 41.36180110742961,
  "xmax": 15.162361675676031,
  "ymax": 42.89491487849223,
  "spatialReference": {
   "wkid": 4326,
   "latestWkid": 4326
  }
 },
 "sortableFields": "",
 "bandCount": 1,
 "pixelType": "S32",
 "minValues": [
  1
 ],
 "maxValues": [
  22
 ],
 "meanValues": [
  13.420636372312
 ],
 "stdvValues": [
  5.5646693400925
 ],
 "hasMultidimensions": false,
 "pixelSizeX": 0.002542477232276309,
 "pixelSizeY": 0.002542477232276313,
 "meanPixelSize": 283.0272708504904,
 "datasetFormat": "TIFF",
 "uncompressedSize": 2035728,
 "blockWidth": 128,
 "blockHeight": 128,
 "compressionType": "LZW",
 "bandNames": [
  "Band_1"
 ],
 "allowCopy": true,
 "allowAnalysis": true,
 "itemAccess": false,
 "inspectionCapabilities": "",
 "noDataValue": -2147483648,
 "noDataValues": [
  -2147483648
 ],
 "minPixelSize": 0,
 "maxPixelSize": 0,
 "copyrightText": "",
 "serviceDataType": "esriImageServiceDataTypeGeneric",
 "serviceSourceType": "esriImageServiceSourceTypeDataset",
 "objectIdField": "",
 "fields": [],
 "capabilities": "Image,Metadata,Mensuration",
 "defaultMosaicMethod": "Center",
 "allowedMosaicMethods": "",
 "sortField": "",
 "sortValue": null,
 "sortAscending": true,
 "mosaicOperator": "First",
 "defaultCompressionQuality": 75,
 "defaultResamplingMethod": "Bilinear",
 "maxImageHeight": 4100,
 "maxImageWidth": 15000,
 "allowRasterFunction": true,
 "rasterFunctionInfos": [
  {
   "name": "ecoregioni",
   "description": "A raster function template.",
   "help": ""
  },
  {
   "name": "MODIS_LST",
   "description": "A raster function template.",
   "help": ""
  },
  {
   "name": "MODIS_VI",
   "description": "A raster function template.",
   "help": ""
  },
  {
   "name": "ecoregioni",
   "description": "A raster function template.",
   "help": ""
  },
  {
   "name": "None",
   "description": "Make a Raster or Raster Dataset into a Function Raster Dataset.",
   "help": ""
  }
 ],
 "rasterTypeInfos": [
  {
   "name": "Raster Dataset",
   "description": "Supports all ArcGIS Raster Datasets",
   "help": ""
  }
 ],
 "mensurationCapabilities": "Basic",
 "hasHistograms": true,
 "hasColormap": false,
 "hasRasterAttributeTable": false,
 "minScale": 0,
 "maxScale": 0,
 "exportTilesAllowed": false,
 "supportsStatistics": false,
 "supportsAdvancedQueries": false,
 "editFieldsInfo": null,
 "ownershipBasedAccessControlForRasters": null,
 "allowComputeTiePoints": false,
 "useStandardizedQueries": true,
 "advancedQueryCapabilities": {
  "useStandardizedQueries": true,
  "supportsStatistics": false,
  "supportsOrderBy": false,
  "supportsDistinct": false,
  "supportsPagination": false
 },
 "spatialReference": {
  "wkid": 4326,
  "latestWkid": 4326
 }
}
